BEGIN:VCALENDAR
VERSION:2.0
PRODID:-//ADN &amp; GRM AUDIT - ECPv6.15.16//NONSGML v1.0//EN
CALSCALE:GREGORIAN
METHOD:PUBLISH
X-WR-CALNAME:ADN &amp; GRM AUDIT
X-ORIGINAL-URL:https://adngrm.com
X-WR-CALDESC:Eventos para ADN &amp; GRM AUDIT
REFRESH-INTERVAL;VALUE=DURATION:PT1H
X-Robots-Tag:noindex
X-PUBLISHED-TTL:PT1H
BEGIN:VTIMEZONE
TZID:Europe/Madrid
BEGIN:DAYLIGHT
TZOFFSETFROM:+0100
TZOFFSETTO:+0200
TZNAME:CEST
DTSTART:20210328T010000
END:DAYLIGHT
BEGIN:STANDARD
TZOFFSETFROM:+0200
TZOFFSETTO:+0100
TZNAME:CET
DTSTART:20211031T010000
END:STANDARD
BEGIN:DAYLIGHT
TZOFFSETFROM:+0100
TZOFFSETTO:+0200
TZNAME:CEST
DTSTART:20220327T010000
END:DAYLIGHT
BEGIN:STANDARD
TZOFFSETFROM:+0200
TZOFFSETTO:+0100
TZNAME:CET
DTSTART:20221030T010000
END:STANDARD
BEGIN:DAYLIGHT
TZOFFSETFROM:+0100
TZOFFSETTO:+0200
TZNAME:CEST
DTSTART:20230326T010000
END:DAYLIGHT
BEGIN:STANDARD
TZOFFSETFROM:+0200
TZOFFSETTO:+0100
TZNAME:CET
DTSTART:20231029T010000
END:STANDARD
END:VTIMEZONE
BEGIN:VEVENT
DTSTART;TZID=Europe/Madrid:20221021T090000
DTEND;TZID=Europe/Madrid:20221021T130000
DTSTAMP:20260423T050153
CREATED:20221013T080802Z
LAST-MODIFIED:20221018T080703Z
UID:74658-1666342800-1666357200@adngrm.com
SUMMARY:Curso de formación: Novedades en el Pack ADN Auditsoft - NIA 315 y análisis de TI
DESCRIPTION:Fecha y hora: 21 de octubre de 2022\, de 9:00 a 13:00 horas \nHoras: 4 horas \nCurso: Novedades en el Pack ADN Auditsoft – NIA 315 y análisis de TI \nPonente: Xavier Sánchez Ibáñez \nHoras de formación homologada: ICAC 4 horas de auditoría \nOrganizada por la Plataforma de Formación Online de ADN&GRM Audit
URL:https://adngrm.com/evento/curso-de-formacion-novedades-en-el-pack-adn-auditsoft-nia-315-y-analisis-de-ti/
LOCATION:A través de la plataforma de formación de ADN&GRM
CATEGORIES:curso,formación
ATTACH;FMTTYPE=image/png:https://adngrm.com/wp-content/uploads/2021/12/Logo-Formacion-adngrm-e1676997711256.png
ORGANIZER;CN="ADN & GRM Audit":MAILTO:red@adngrm.com
END:VEVENT
BEGIN:VEVENT
DTSTART;TZID=Europe/Madrid:20221021T090000
DTEND;TZID=Europe/Madrid:20221021T130000
DTSTAMP:20260423T050153
CREATED:20221019T142149Z
LAST-MODIFIED:20221019T142149Z
UID:74674-1666342800-1666357200@adngrm.com
SUMMARY:Novedades del Pack ADN-Auditsoft 2022-23. Tratamiento NIA 315-R (Valoración Riesgos\, Análisis IT)\, Plantillas PPTT y otros
DESCRIPTION:Fecha y hora: 21 de octubre de 2022 \nHoras: 4 horas \nSeminario: Novedades del Pack ADN-Auditsoft 2022-23. Tratamiento NIA 315-R (Valoración Riesgos\, Análisis IT)\, Plantillas PPTT y otros \nPonente: Xavier Sánchez Ibáñez \nHoras de formación homologadas ICAC: 4h auditoría \nOrganizado por la Plataforma de Formación Online de ADN&GRM Audit
URL:https://adngrm.com/evento/novedades-del-pack-adn-auditsoft-2022-23-tratamiento-nia-315-r-valoracion-riesgos-analisis-it-plantillas-pptt-y-otros/
LOCATION:A través de la plataforma de formación de ADN&GRM
CATEGORIES:evento,formación
ATTACH;FMTTYPE=image/png:https://adngrm.com/wp-content/uploads/2021/12/Logo-Formacion-adngrm-e1676997711256.png
ORGANIZER;CN="ADN & GRM Audit":MAILTO:red@adngrm.com
END:VEVENT
END:VCALENDAR