BEGIN:VCALENDAR
VERSION:2.0
PRODID:-//ADN &amp; GRM AUDIT - ECPv6.15.16//NONSGML v1.0//EN
CALSCALE:GREGORIAN
METHOD:PUBLISH
X-WR-CALNAME:ADN &amp; GRM AUDIT
X-ORIGINAL-URL:https://adngrm.com
X-WR-CALDESC:Eventos para ADN &amp; GRM AUDIT
REFRESH-INTERVAL;VALUE=DURATION:PT1H
X-Robots-Tag:noindex
X-PUBLISHED-TTL:PT1H
BEGIN:VTIMEZONE
TZID:Europe/Madrid
BEGIN:DAYLIGHT
TZOFFSETFROM:+0100
TZOFFSETTO:+0200
TZNAME:CEST
DTSTART:20210328T010000
END:DAYLIGHT
BEGIN:STANDARD
TZOFFSETFROM:+0200
TZOFFSETTO:+0100
TZNAME:CET
DTSTART:20211031T010000
END:STANDARD
BEGIN:DAYLIGHT
TZOFFSETFROM:+0100
TZOFFSETTO:+0200
TZNAME:CEST
DTSTART:20220327T010000
END:DAYLIGHT
BEGIN:STANDARD
TZOFFSETFROM:+0200
TZOFFSETTO:+0100
TZNAME:CET
DTSTART:20221030T010000
END:STANDARD
BEGIN:DAYLIGHT
TZOFFSETFROM:+0100
TZOFFSETTO:+0200
TZNAME:CEST
DTSTART:20230326T010000
END:DAYLIGHT
BEGIN:STANDARD
TZOFFSETFROM:+0200
TZOFFSETTO:+0100
TZNAME:CET
DTSTART:20231029T010000
END:STANDARD
END:VTIMEZONE
BEGIN:VEVENT
DTSTART;TZID=Europe/Madrid:20220505T100000
DTEND;TZID=Europe/Madrid:20220505T140000
DTSTAMP:20260423T114848
CREATED:20220426T080320Z
LAST-MODIFIED:20220426T080320Z
UID:74621-1651744800-1651759200@adngrm.com
SUMMARY:Curso de formación: Consolidación de Grupos Empresariales (Parte 2/3)
DESCRIPTION:Fecha y hora: 5 de mayo de 2022.\nHoras: de 10:00 a 12:00h\nCurso: Consolidación de Grupos Empresariales (Parte 2/3)\nPonente: Valentín Gallego Castañera\nHoras de formación homologadas ICAC 12h en contabilidad (para las tres partes del curso conjuntamente)\nOrganizado por la Plataforma de Formación Online de ADN&GRM Audit
URL:https://adngrm.com/evento/curso-de-formacion-consolidacion-de-grupos-empresariales-parte-2-3/
LOCATION:A través de la plataforma de formación de ADN&GRM
CATEGORIES:curso
ATTACH;FMTTYPE=image/png:https://adngrm.com/wp-content/uploads/2021/12/Logo-Formacion-adngrm-e1676997711256.png
ORGANIZER;CN="ADN & GRM Audit":MAILTO:red@adngrm.com
END:VEVENT
BEGIN:VEVENT
DTSTART;TZID=Europe/Madrid:20220506T100000
DTEND;TZID=Europe/Madrid:20220506T140000
DTSTAMP:20260423T114848
CREATED:20220426T080426Z
LAST-MODIFIED:20220426T080426Z
UID:74624-1651831200-1651845600@adngrm.com
SUMMARY:Curso de formación: Consolidación de Grupos Empresariales (Parte 3/3)
DESCRIPTION:Fecha y hora: 6 de mayo de 2022.\nHoras: de 10:00 a 12:00h\nCurso: Consolidación de Grupos Empresariales (Parte 3/3)\nPonente: Valentín Gallego Castañera\nHoras de formación homologadas ICAC 12h en contabilidad (para las tres partes del curso conjuntamente)\nOrganizado por la Plataforma de Formación Online de ADN&GRM Audit
URL:https://adngrm.com/evento/curso-de-formacion-consolidacion-de-grupos-empresariales-parte-3-3/
LOCATION:A través de la plataforma de formación de ADN&GRM
CATEGORIES:curso
ATTACH;FMTTYPE=image/png:https://adngrm.com/wp-content/uploads/2021/12/Logo-Formacion-adngrm-e1676997711256.png
ORGANIZER;CN="ADN & GRM Audit":MAILTO:red@adngrm.com
END:VEVENT
END:VCALENDAR