BEGIN:VCALENDAR
VERSION:2.0
PRODID:-//ADN &amp; GRM AUDIT - ECPv6.15.16//NONSGML v1.0//EN
CALSCALE:GREGORIAN
METHOD:PUBLISH
X-ORIGINAL-URL:https://adngrm.com
X-WR-CALDESC:Eventos para ADN &amp; GRM AUDIT
REFRESH-INTERVAL;VALUE=DURATION:PT1H
X-Robots-Tag:noindex
X-PUBLISHED-TTL:PT1H
BEGIN:VTIMEZONE
TZID:Europe/Madrid
BEGIN:DAYLIGHT
TZOFFSETFROM:+0100
TZOFFSETTO:+0200
TZNAME:CEST
DTSTART:20220327T010000
END:DAYLIGHT
BEGIN:STANDARD
TZOFFSETFROM:+0200
TZOFFSETTO:+0100
TZNAME:CET
DTSTART:20221030T010000
END:STANDARD
BEGIN:DAYLIGHT
TZOFFSETFROM:+0100
TZOFFSETTO:+0200
TZNAME:CEST
DTSTART:20230326T010000
END:DAYLIGHT
BEGIN:STANDARD
TZOFFSETFROM:+0200
TZOFFSETTO:+0100
TZNAME:CET
DTSTART:20231029T010000
END:STANDARD
BEGIN:DAYLIGHT
TZOFFSETFROM:+0100
TZOFFSETTO:+0200
TZNAME:CEST
DTSTART:20240331T010000
END:DAYLIGHT
BEGIN:STANDARD
TZOFFSETFROM:+0200
TZOFFSETTO:+0100
TZNAME:CET
DTSTART:20241027T010000
END:STANDARD
END:VTIMEZONE
BEGIN:VEVENT
DTSTART;TZID=Europe/Madrid:20230209T100000
DTEND;TZID=Europe/Madrid:20230209T120000
DTSTAMP:20260422T171254
CREATED:20230207T095829Z
LAST-MODIFIED:20230207T095829Z
UID:74710-1675936800-1675944000@adngrm.com
SUMMARY:Curso de formación: Curso práctico de Microsoft Word 365 (1º parte)
DESCRIPTION:Fecha y hora: 9 y 10 de febrero de 2023\, de 10:00 a 12:00\nHoras: 4 horas\nCurso: Curso práctico de Microsoft Word 365 (1º parte)\nPonente: Martín García Vega\nHoras de formación homologadas ICAC: 4h de Otras Materias\nOrganizado por la Plataforma de Formación Online de ADN&GRM Audit
URL:https://adngrm.com/evento/curso-de-formacion-curso-practico-de-microsoft-word-365-1o-parte/
LOCATION:A través de la plataforma de formación de ADN&GRM
CATEGORIES:curso,formación
ATTACH;FMTTYPE=image/png:https://adngrm.com/wp-content/uploads/2021/12/Logo-Formacion-adngrm-e1676997711256.png
ORGANIZER;CN="ADN & GRM Audit":MAILTO:red@adngrm.com
END:VEVENT
BEGIN:VEVENT
DTSTART;TZID=Europe/Madrid:20230210T100000
DTEND;TZID=Europe/Madrid:20230210T120000
DTSTAMP:20260422T171254
CREATED:20230207T100219Z
LAST-MODIFIED:20230207T100219Z
UID:74712-1676023200-1676030400@adngrm.com
SUMMARY:Curso de formación: Curso práctico de Microsoft Word 365 (2º parte)
DESCRIPTION:Fecha y hora: 9 y 10 de febrero de 2023\, de 10:00 a 12:00\nHoras: 4 horas\nCurso: Curso práctico de Microsoft Word 365 (2º parte)\nPonente: Martín García Vega\nHoras de formación homologadas ICAC: 4h de Otras Materias\nOrganizado por la Plataforma de Formación Online de ADN&GRM Audit
URL:https://adngrm.com/evento/curso-de-formacion-curso-practico-de-microsoft-word-365-2o-parte/
LOCATION:A través de la plataforma de formación de ADN&GRM
CATEGORIES:curso,formación
ATTACH;FMTTYPE=image/png:https://adngrm.com/wp-content/uploads/2021/12/Logo-Formacion-adngrm-e1676997711256.png
ORGANIZER;CN="ADN & GRM Audit":MAILTO:red@adngrm.com
END:VEVENT
BEGIN:VEVENT
DTSTART;TZID=Europe/Madrid:20230216T100000
DTEND;TZID=Europe/Madrid:20230216T120000
DTSTAMP:20260422T171254
CREATED:20230213T150835Z
LAST-MODIFIED:20230213T150835Z
UID:74714-1676541600-1676548800@adngrm.com
SUMMARY:Curso de formación: Curso práctico de Microsoft Excel 365 (1º parte)
DESCRIPTION:Fecha y hora: 16 y 17 de febrero de 2023\, de 10:00 a 12:00\nHoras: 4 horas\nCurso: Curso práctico de Microsoft Excel 365 (1º parte)\nPonente: Martín García Vega\nHoras de formación homologadas ICAC: 4h de Otras Materias\nOrganizado por la Plataforma de Formación Online de ADN&GRM Audit
URL:https://adngrm.com/evento/curso-de-formacion-curso-practico-de-microsoft-excel-365-1o-parte/
LOCATION:A través de la plataforma de formación de ADN&GRM
CATEGORIES:curso,formación
ATTACH;FMTTYPE=image/png:https://adngrm.com/wp-content/uploads/2021/12/Logo-Formacion-adngrm-e1676997711256.png
ORGANIZER;CN="ADN & GRM Audit":MAILTO:red@adngrm.com
END:VEVENT
BEGIN:VEVENT
DTSTART;TZID=Europe/Madrid:20230216T100000
DTEND;TZID=Europe/Madrid:20230216T120000
DTSTAMP:20260422T171254
CREATED:20230221T170348Z
LAST-MODIFIED:20230221T170348Z
UID:74734-1676541600-1676548800@adngrm.com
SUMMARY:Curso práctico de Excel
DESCRIPTION:Fecha y hora: 16 de febrero de 2023\, de 10:00 a 12:00\nHoras: 2 horas\nCurso: Curso práctico de Excel. Parte I\nPonente: Martín García Vega\nHoras de formación homologadas ICAC: 2h de Otras Materias\nOrganizado por la Plataforma de Formación Online de ADN&GRM Audit
URL:https://adngrm.com/evento/curso-practico-de-excel/
LOCATION:A través de la plataforma de formación de ADN&GRM
CATEGORIES:curso,formación
ATTACH;FMTTYPE=image/png:https://adngrm.com/wp-content/uploads/2021/12/Logo-Formacion-adngrm-e1676997711256.png
ORGANIZER;CN="ADN & GRM Audit":MAILTO:red@adngrm.com
END:VEVENT
BEGIN:VEVENT
DTSTART;TZID=Europe/Madrid:20230217T100000
DTEND;TZID=Europe/Madrid:20230217T120000
DTSTAMP:20260422T171254
CREATED:20230213T150947Z
LAST-MODIFIED:20230213T150947Z
UID:74716-1676628000-1676635200@adngrm.com
SUMMARY:Curso de formación: Curso práctico de Microsoft Excel 365 (2º parte)
DESCRIPTION:Fecha y hora: 16 y 17 de febrero de 2023\, de 10:00 a 12:00\nHoras: 4 horas\nCurso: Curso práctico de Microsoft Excel 365 (2º parte)\nPonente: Martín García Vega\nHoras de formación homologadas ICAC: 4h de Otras Materias\nOrganizado por la Plataforma de Formación Online de ADN&GRM Audit
URL:https://adngrm.com/evento/curso-de-formacion-curso-practico-de-microsoft-excel-365-2o-parte/
LOCATION:A través de la plataforma de formación de ADN&GRM
CATEGORIES:curso,formación
ATTACH;FMTTYPE=image/png:https://adngrm.com/wp-content/uploads/2021/12/Logo-Formacion-adngrm-e1676997711256.png
ORGANIZER;CN="ADN & GRM Audit":MAILTO:red@adngrm.com
END:VEVENT
BEGIN:VEVENT
DTSTART;TZID=Europe/Madrid:20230217T100000
DTEND;TZID=Europe/Madrid:20230217T120000
DTSTAMP:20260422T171254
CREATED:20230221T170505Z
LAST-MODIFIED:20230221T170505Z
UID:74736-1676628000-1676635200@adngrm.com
SUMMARY:Curso práctico de Excel. Parte II
DESCRIPTION:Fecha y hora: 17 de febrero de 2023\, de 10:00 a 12:00\nHoras: 2 horas\nCurso: Curso práctico de Excel. Parte II\nPonente: Martín García Vega\nHoras de formación homologadas ICAC: 2h de Otras Materias\nOrganizado por la Plataforma de Formación Online de ADN&GRM Audit
URL:https://adngrm.com/evento/curso-practico-de-excel-parte-ii/
LOCATION:A través de la plataforma de formación de ADN&GRM
CATEGORIES:curso,formación
ATTACH;FMTTYPE=image/png:https://adngrm.com/wp-content/uploads/2021/12/Logo-Formacion-adngrm-e1676997711256.png
ORGANIZER;CN="ADN & GRM Audit":MAILTO:red@adngrm.com
END:VEVENT
BEGIN:VEVENT
DTSTART;TZID=Europe/Madrid:20230223T100000
DTEND;TZID=Europe/Madrid:20230223T130000
DTSTAMP:20260422T171254
CREATED:20230221T165915Z
LAST-MODIFIED:20230221T165915Z
UID:74732-1677146400-1677157200@adngrm.com
SUMMARY:Curso básico aplicaciones incluidas en la suscripción Office 365
DESCRIPTION:Fecha y hora: 23 de febrero de 2023\, de 10:00 a 13:00\nHoras: 3 horas\nCurso: Curso básico aplicaciones incluidas en la suscripción Office 365\nPonente: Santiago Muñoz Gordaliza\nHoras de formación homologadas ICAC: 3h de Otras Materias\nOrganizado por la Plataforma de Formación Online de ADN&GRM Audit
URL:https://adngrm.com/evento/curso-basico-aplicaciones-incluidas-en-la-suscripcion-office-365/
LOCATION:A través de la plataforma de formación de ADN&GRM
CATEGORIES:curso,formación
ATTACH;FMTTYPE=image/png:https://adngrm.com/wp-content/uploads/2021/12/Logo-Formacion-adngrm-e1676997711256.png
ORGANIZER;CN="ADN & GRM Audit":MAILTO:red@adngrm.com
END:VEVENT
BEGIN:VEVENT
DTSTART;TZID=Europe/Madrid:20230224T100000
DTEND;TZID=Europe/Madrid:20230224T110000
DTSTAMP:20260422T171254
CREATED:20230221T125519Z
LAST-MODIFIED:20230221T125519Z
UID:74719-1677232800-1677236400@adngrm.com
SUMMARY:Curso de formación: Conceptos básicos de redes sociales en los despachos y actividad de auditoría
DESCRIPTION:Fecha y hora: 24 de febrero de 2023\, de 10:00 a 11:00\nHoras: 1 hora\nCurso: Conceptos básicos de redes sociales en los despachos y actividad de auditoría\nPonente: Alfonso Linares Gutiérrez\nHoras de formación homologadas ICAC: 1h de Otras Materias\nOrganizado por la Plataforma de Formación Online de ADN&GRM Audit
URL:https://adngrm.com/evento/curso-de-formacion-conceptos-basicos-de-redes-sociales-en-los-despachos-y-actividad-de-auditoria/
LOCATION:A través de la plataforma de formación de ADN&GRM
CATEGORIES:curso,formación
ATTACH;FMTTYPE=image/png:https://adngrm.com/wp-content/uploads/2021/12/Logo-Formacion-adngrm-e1676997711256.png
ORGANIZER;CN="ADN & GRM Audit":MAILTO:red@adngrm.com
END:VEVENT
END:VCALENDAR