BEGIN:VCALENDAR
VERSION:2.0
PRODID:-//ADN &amp; GRM AUDIT - ECPv6.15.16//NONSGML v1.0//EN
CALSCALE:GREGORIAN
METHOD:PUBLISH
X-ORIGINAL-URL:https://adngrm.com
X-WR-CALDESC:Eventos para ADN &amp; GRM AUDIT
REFRESH-INTERVAL;VALUE=DURATION:PT1H
X-Robots-Tag:noindex
X-PUBLISHED-TTL:PT1H
BEGIN:VTIMEZONE
TZID:Europe/Madrid
BEGIN:DAYLIGHT
TZOFFSETFROM:+0100
TZOFFSETTO:+0200
TZNAME:CEST
DTSTART:20210328T010000
END:DAYLIGHT
BEGIN:STANDARD
TZOFFSETFROM:+0200
TZOFFSETTO:+0100
TZNAME:CET
DTSTART:20211031T010000
END:STANDARD
BEGIN:DAYLIGHT
TZOFFSETFROM:+0100
TZOFFSETTO:+0200
TZNAME:CEST
DTSTART:20220327T010000
END:DAYLIGHT
BEGIN:STANDARD
TZOFFSETFROM:+0200
TZOFFSETTO:+0100
TZNAME:CET
DTSTART:20221030T010000
END:STANDARD
BEGIN:DAYLIGHT
TZOFFSETFROM:+0100
TZOFFSETTO:+0200
TZNAME:CEST
DTSTART:20230326T010000
END:DAYLIGHT
BEGIN:STANDARD
TZOFFSETFROM:+0200
TZOFFSETTO:+0100
TZNAME:CET
DTSTART:20231029T010000
END:STANDARD
END:VTIMEZONE
BEGIN:VEVENT
DTSTART;TZID=Europe/Madrid:20220202T193000
DTEND;TZID=Europe/Madrid:20220203T140000
DTSTAMP:20260423T133100
CREATED:20211209T103455Z
LAST-MODIFIED:20211209T103455Z
UID:74362-1643830200-1643896800@adngrm.com
SUMMARY:XXV Congreso Nacional de Auditoría - Bilbao 2022
DESCRIPTION:Organizado por el ICJCE dirigido a todos los auditores españoles\, a celebrarse en el Palacio Euskalduna de Bilbao los días 3 y 4 de febrero 2022.   \nEn la web puede accederse al programa del evento así como a información adicional e inscripciones.
URL:https://adngrm.com/evento/xxv-congreso-nacional-de-auditoria-bilbao-2022/
LOCATION:Palacio Euskalduna Jauregia Bilbao\, Calle Abandoibarra\, 4\, Bilbao\, Bizkaia\, 48011\, España
CATEGORIES:evento
ATTACH;FMTTYPE=image/png:https://adngrm.com/wp-content/uploads/2021/12/XXV-Congreso-Auditoria-Bilbao-2022.png
END:VEVENT
BEGIN:VEVENT
DTSTART;TZID=Europe/Madrid:20220204T100000
DTEND;TZID=Europe/Madrid:20220204T130000
DTSTAMP:20260423T133100
CREATED:20211210T124921Z
LAST-MODIFIED:20220201T104740Z
UID:74378-1643968800-1643979600@adngrm.com
SUMMARY:Curso de Formación: Tratamiento de datos y tablas dinámicas en excel e iniciación en power Query\, Power pivot y Power Bi (Parte 1)
DESCRIPTION:Fecha y hora: 4 y 11 de febrero de 2022. \nHoras: De 10h a 13h ambas sesiones \nCurso: Tratamiento de datos y tablas dinámicas en excel e iniciación en power Query\, Power pivot y Power Bi \nPonente: Santiago Muñoz Gordaliza \nHoras de formación homologadas ICAC 12h \nOrganizado por la Plataforma de Formación Online de adn&grm Audit
URL:https://adngrm.com/evento/curso-de-formacion-tratamiento-de-datos-y-tablas-dinamicas-en-excel-e-iniciacion-en-power-query-power-pivot-y-power-bi/2022-02-04/
LOCATION:ADN & GRM Audit\, Hilarión Eslava\, 62\, Madrid\, Madrid\, 28015\, España
CATEGORIES:curso
ATTACH;FMTTYPE=image/png:https://adngrm.com/wp-content/uploads/2021/12/Logo-Formacion-adngrm-e1676997711256.png
ORGANIZER;CN="ADN & GRM Audit":MAILTO:red@adngrm.com
END:VEVENT
BEGIN:VEVENT
DTSTART;TZID=Europe/Madrid:20220211T100000
DTEND;TZID=Europe/Madrid:20220211T130000
DTSTAMP:20260423T133100
CREATED:20220201T104810Z
LAST-MODIFIED:20220201T104810Z
UID:74423-1644573600-1644584400@adngrm.com
SUMMARY:Curso de Formación: Tratamiento de datos y tablas dinámicas en excel e iniciación en power Query\, Power pivot y Power Bi (Parte 2)
DESCRIPTION:Fecha y hora: 4 y 11 de febrero de 2022.\n\nHoras: De 10h a 13h ambas sesiones\n\nCurso: Tratamiento de datos y tablas dinámicas en excel e iniciación en power Query\, Power pivot y Power Bi\n\nPonente: Santiago Muñoz Gordaliza\n\nHoras de formación homologadas ICAC 12h\n\nOrganizado por la Plataforma de Formación Online de adn&grm Audit
URL:https://adngrm.com/evento/curso-de-formacion-tratamiento-de-datos-y-tablas-dinamicas-en-excel-e-iniciacion-en-power-query-power-pivot-y-power-bi-parte-2/
LOCATION:ADN & GRM Audit\, Hilarión Eslava\, 62\, Madrid\, Madrid\, 28015\, España
CATEGORIES:curso
ATTACH;FMTTYPE=image/png:https://adngrm.com/wp-content/uploads/2021/12/Logo-Formacion-adngrm-e1676997711256.png
ORGANIZER;CN="ADN & GRM Audit":MAILTO:red@adngrm.com
END:VEVENT
BEGIN:VEVENT
DTSTART;TZID=Europe/Madrid:20220218T100000
DTEND;TZID=Europe/Madrid:20220218T130000
DTSTAMP:20260423T133100
CREATED:20220215T074946Z
LAST-MODIFIED:20220215T074946Z
UID:74438-1645178400-1645189200@adngrm.com
SUMMARY:Seminario: Análisis de las consultas publicadas por el ICAC durante el año 2021 (1º sesión)
DESCRIPTION:Fecha y hora: 18 de febrero de 2022. \nHoras: De 10:00 a 13:00h \nCurso: Análisis de las consultas publicadas por el ICAC durante el año 2021 (1º sesión) \nPonente: Valentín Gallego Castañera \nHoras de formación homologadas ICAC: Las 2 sesiones computan como 6 horas homologables\, 4 horas en contabilidad y 1 hora en auditoría \nOrganizado por la Plataforma de Formación Online de ADN&GRM Audit   \nGratuito para todos los miembros de la A.I.E ADN&GRM.
URL:https://adngrm.com/evento/seminario-analisis-de-las-consultas-publicadas-por-el-icac-durante-el-ano-2021-1o-sesion/
LOCATION:Salamanca
CATEGORIES:curso,evento
ATTACH;FMTTYPE=image/png:https://adngrm.com/wp-content/uploads/2021/12/Logo-Formacion-adngrm-e1676997711256.png
ORGANIZER;CN="ADN & GRM Audit":MAILTO:red@adngrm.com
END:VEVENT
BEGIN:VEVENT
DTSTART;TZID=Europe/Madrid:20220225T100000
DTEND;TZID=Europe/Madrid:20220225T130000
DTSTAMP:20260423T133100
CREATED:20220215T075137Z
LAST-MODIFIED:20220215T075137Z
UID:74442-1645783200-1645794000@adngrm.com
SUMMARY:Seminario: Análisis de las consultas publicadas por el ICAC durante el año 2021 (2º sesión)
DESCRIPTION:Fecha y hora: 25 de febrero de 2022.\n\nHoras: De 10:00 a 13:00h\n\nCurso: Análisis de las consultas publicadas por el ICAC durante el año 2021 (2º sesión)\n\nPonente: Valentín Gallego Castañera\n\nHoras de formación homologadas ICAC: Las 2 sesiones computan como 6 horas homologables\, 4 horas en contabilidad y 1 hora en auditoría\n\nOrganizado por la Plataforma de Formación Online de ADN&GRM Audit\n\nGratuito para todos los miembros de la A.I.E ADN&GRM.
URL:https://adngrm.com/evento/seminario-analisis-de-las-consultas-publicadas-por-el-icac-durante-el-ano-2021-2o-sesion/
LOCATION:Salamanca
CATEGORIES:curso,evento
ATTACH;FMTTYPE=image/png:https://adngrm.com/wp-content/uploads/2021/12/Logo-Formacion-adngrm-e1676997711256.png
ORGANIZER;CN="ADN & GRM Audit":MAILTO:red@adngrm.com
END:VEVENT
END:VCALENDAR