BEGIN:VCALENDAR
VERSION:2.0
PRODID:-//ADN &amp; GRM AUDIT - ECPv6.15.16//NONSGML v1.0//EN
CALSCALE:GREGORIAN
METHOD:PUBLISH
X-ORIGINAL-URL:https://adngrm.com
X-WR-CALDESC:Eventos para ADN &amp; GRM AUDIT
REFRESH-INTERVAL;VALUE=DURATION:PT1H
X-Robots-Tag:noindex
X-PUBLISHED-TTL:PT1H
BEGIN:VTIMEZONE
TZID:Europe/Madrid
BEGIN:DAYLIGHT
TZOFFSETFROM:+0100
TZOFFSETTO:+0200
TZNAME:CEST
DTSTART:20210328T010000
END:DAYLIGHT
BEGIN:STANDARD
TZOFFSETFROM:+0200
TZOFFSETTO:+0100
TZNAME:CET
DTSTART:20211031T010000
END:STANDARD
BEGIN:DAYLIGHT
TZOFFSETFROM:+0100
TZOFFSETTO:+0200
TZNAME:CEST
DTSTART:20220327T010000
END:DAYLIGHT
BEGIN:STANDARD
TZOFFSETFROM:+0200
TZOFFSETTO:+0100
TZNAME:CET
DTSTART:20221030T010000
END:STANDARD
BEGIN:DAYLIGHT
TZOFFSETFROM:+0100
TZOFFSETTO:+0200
TZNAME:CEST
DTSTART:20230326T010000
END:DAYLIGHT
BEGIN:STANDARD
TZOFFSETFROM:+0200
TZOFFSETTO:+0100
TZNAME:CET
DTSTART:20231029T010000
END:STANDARD
BEGIN:DAYLIGHT
TZOFFSETFROM:+0100
TZOFFSETTO:+0200
TZNAME:CEST
DTSTART:20240331T010000
END:DAYLIGHT
BEGIN:STANDARD
TZOFFSETFROM:+0200
TZOFFSETTO:+0100
TZNAME:CET
DTSTART:20241027T010000
END:STANDARD
BEGIN:DAYLIGHT
TZOFFSETFROM:+0100
TZOFFSETTO:+0200
TZNAME:CEST
DTSTART:20250330T010000
END:DAYLIGHT
BEGIN:STANDARD
TZOFFSETFROM:+0200
TZOFFSETTO:+0100
TZNAME:CET
DTSTART:20251026T010000
END:STANDARD
END:VTIMEZONE
BEGIN:VEVENT
DTSTART;TZID=Europe/Madrid:20221202T100000
DTEND;TZID=Europe/Madrid:20221202T130000
DTSTAMP:20260423T001058
CREATED:20221013T090433Z
LAST-MODIFIED:20221130T071738Z
UID:74668-1669975200-1669986000@adngrm.com
SUMMARY:Curso de formación: Realización de pruebas de cumplimiento con la herramienta ForSampling (FS)
DESCRIPTION:Fecha y hora: 2 de diciembre de 2022\, de 9:30 a 11:30 \nHoras: 3 horas \nCurso: Realización de pruebas de cumplimiento con la herramienta ForSampling (FS) \nPonente: Xavier Sánchez Ibáñez \nHoras de formación homologadas ICAC: 3h auditoría \nOrganizado por la Plataforma de Formación Online de ADN&GRM Audit
URL:https://adngrm.com/evento/curso-de-formacion-realizacion-de-pruebas-de-cumplimiento-con-la-herramienta-forsampling/
LOCATION:A través de la plataforma de formación de ADN&GRM
CATEGORIES:curso,formación
ATTACH;FMTTYPE=image/png:https://adngrm.com/wp-content/uploads/2021/12/Logo-Formacion-adngrm-e1676997711256.png
ORGANIZER;CN="ADN & GRM Audit":MAILTO:red@adngrm.com
END:VEVENT
BEGIN:VEVENT
DTSTART;TZID=Europe/Madrid:20221213T093000
DTEND;TZID=Europe/Madrid:20221213T133000
DTSTAMP:20260423T001058
CREATED:20221118T152118Z
LAST-MODIFIED:20221215T111949Z
UID:74693-1670923800-1670938200@adngrm.com
SUMMARY:Curso de formación: EQCR e Inspección de seguimiento: resultados de los trabajos realizados\, debilidades detectadas y sugerencias de mejora
DESCRIPTION:Fecha y hora: 13 de diciembre de 2022\, de 9:30 a 13:30 \nHoras: 4 horas \nCurso: EQCR e Inspección de seguimiento: resultados de los trabajos realizados\, debilidades detectadas y sugerencias de mejora \nPonente: Judith Fernández Margolles \nHoras de formación homologadas ICAC: 4h auditoría \nOrganizado por la Plataforma de Formación Online de ADN&GRM Audit
URL:https://adngrm.com/evento/eqcr-e-inspeccion-de-seguimiento-resultados-de-los-trabajos-realizados-debilidades-detectadas-y-sugerencias-de-mejora/
LOCATION:A través de la plataforma de formación de ADN&GRM
CATEGORIES:curso,formación
ATTACH;FMTTYPE=image/png:https://adngrm.com/wp-content/uploads/2021/12/Logo-Formacion-adngrm-e1676997711256.png
ORGANIZER;CN="ADN & GRM Audit":MAILTO:red@adngrm.com
END:VEVENT
BEGIN:VEVENT
DTSTART;TZID=Europe/Madrid:20221220T163000
DTEND;TZID=Europe/Madrid:20221221T193000
DTSTAMP:20260423T001058
CREATED:20221215T112307Z
LAST-MODIFIED:20221215T112307Z
UID:74706-1671553800-1671651000@adngrm.com
SUMMARY:Curso de formación: Cierre fiscal en el impuesto de sociedades de 2022
DESCRIPTION:Fecha y hora: 20 y 21 de diciembre de 2022\, de 16:30 a 19:30\nHoras: 6 horas\nCurso: Cierre fiscal en el impuesto de sociedades de 2022\nPonente: Marceliano Hernández del Canto\nHoras de formación homologadas ICAC: 6h de Otras Materias\nOrganizado por la Plataforma de Formación Online de ADN&GRM Audit
URL:https://adngrm.com/evento/curso-de-formacion-cierre-fiscal-en-el-impuesto-de-sociedades-de-2022/
LOCATION:A través de la plataforma de formación de ADN&GRM
CATEGORIES:curso,formación
ATTACH;FMTTYPE=image/png:https://adngrm.com/wp-content/uploads/2021/12/Logo-Formacion-adngrm-e1676997711256.png
ORGANIZER;CN="ADN & GRM Audit":MAILTO:red@adngrm.com
END:VEVENT
BEGIN:VEVENT
DTSTART;TZID=Europe/Madrid:20230209T100000
DTEND;TZID=Europe/Madrid:20230209T120000
DTSTAMP:20260423T001058
CREATED:20230207T095829Z
LAST-MODIFIED:20230207T095829Z
UID:74710-1675936800-1675944000@adngrm.com
SUMMARY:Curso de formación: Curso práctico de Microsoft Word 365 (1º parte)
DESCRIPTION:Fecha y hora: 9 y 10 de febrero de 2023\, de 10:00 a 12:00\nHoras: 4 horas\nCurso: Curso práctico de Microsoft Word 365 (1º parte)\nPonente: Martín García Vega\nHoras de formación homologadas ICAC: 4h de Otras Materias\nOrganizado por la Plataforma de Formación Online de ADN&GRM Audit
URL:https://adngrm.com/evento/curso-de-formacion-curso-practico-de-microsoft-word-365-1o-parte/
LOCATION:A través de la plataforma de formación de ADN&GRM
CATEGORIES:curso,formación
ATTACH;FMTTYPE=image/png:https://adngrm.com/wp-content/uploads/2021/12/Logo-Formacion-adngrm-e1676997711256.png
ORGANIZER;CN="ADN & GRM Audit":MAILTO:red@adngrm.com
END:VEVENT
BEGIN:VEVENT
DTSTART;TZID=Europe/Madrid:20230210T100000
DTEND;TZID=Europe/Madrid:20230210T120000
DTSTAMP:20260423T001058
CREATED:20230207T100219Z
LAST-MODIFIED:20230207T100219Z
UID:74712-1676023200-1676030400@adngrm.com
SUMMARY:Curso de formación: Curso práctico de Microsoft Word 365 (2º parte)
DESCRIPTION:Fecha y hora: 9 y 10 de febrero de 2023\, de 10:00 a 12:00\nHoras: 4 horas\nCurso: Curso práctico de Microsoft Word 365 (2º parte)\nPonente: Martín García Vega\nHoras de formación homologadas ICAC: 4h de Otras Materias\nOrganizado por la Plataforma de Formación Online de ADN&GRM Audit
URL:https://adngrm.com/evento/curso-de-formacion-curso-practico-de-microsoft-word-365-2o-parte/
LOCATION:A través de la plataforma de formación de ADN&GRM
CATEGORIES:curso,formación
ATTACH;FMTTYPE=image/png:https://adngrm.com/wp-content/uploads/2021/12/Logo-Formacion-adngrm-e1676997711256.png
ORGANIZER;CN="ADN & GRM Audit":MAILTO:red@adngrm.com
END:VEVENT
BEGIN:VEVENT
DTSTART;TZID=Europe/Madrid:20230216T100000
DTEND;TZID=Europe/Madrid:20230216T120000
DTSTAMP:20260423T001058
CREATED:20230213T150835Z
LAST-MODIFIED:20230213T150835Z
UID:74714-1676541600-1676548800@adngrm.com
SUMMARY:Curso de formación: Curso práctico de Microsoft Excel 365 (1º parte)
DESCRIPTION:Fecha y hora: 16 y 17 de febrero de 2023\, de 10:00 a 12:00\nHoras: 4 horas\nCurso: Curso práctico de Microsoft Excel 365 (1º parte)\nPonente: Martín García Vega\nHoras de formación homologadas ICAC: 4h de Otras Materias\nOrganizado por la Plataforma de Formación Online de ADN&GRM Audit
URL:https://adngrm.com/evento/curso-de-formacion-curso-practico-de-microsoft-excel-365-1o-parte/
LOCATION:A través de la plataforma de formación de ADN&GRM
CATEGORIES:curso,formación
ATTACH;FMTTYPE=image/png:https://adngrm.com/wp-content/uploads/2021/12/Logo-Formacion-adngrm-e1676997711256.png
ORGANIZER;CN="ADN & GRM Audit":MAILTO:red@adngrm.com
END:VEVENT
BEGIN:VEVENT
DTSTART;TZID=Europe/Madrid:20230216T100000
DTEND;TZID=Europe/Madrid:20230216T120000
DTSTAMP:20260423T001058
CREATED:20230221T170348Z
LAST-MODIFIED:20230221T170348Z
UID:74734-1676541600-1676548800@adngrm.com
SUMMARY:Curso práctico de Excel
DESCRIPTION:Fecha y hora: 16 de febrero de 2023\, de 10:00 a 12:00\nHoras: 2 horas\nCurso: Curso práctico de Excel. Parte I\nPonente: Martín García Vega\nHoras de formación homologadas ICAC: 2h de Otras Materias\nOrganizado por la Plataforma de Formación Online de ADN&GRM Audit
URL:https://adngrm.com/evento/curso-practico-de-excel/
LOCATION:A través de la plataforma de formación de ADN&GRM
CATEGORIES:curso,formación
ATTACH;FMTTYPE=image/png:https://adngrm.com/wp-content/uploads/2021/12/Logo-Formacion-adngrm-e1676997711256.png
ORGANIZER;CN="ADN & GRM Audit":MAILTO:red@adngrm.com
END:VEVENT
BEGIN:VEVENT
DTSTART;TZID=Europe/Madrid:20230217T100000
DTEND;TZID=Europe/Madrid:20230217T120000
DTSTAMP:20260423T001058
CREATED:20230213T150947Z
LAST-MODIFIED:20230213T150947Z
UID:74716-1676628000-1676635200@adngrm.com
SUMMARY:Curso de formación: Curso práctico de Microsoft Excel 365 (2º parte)
DESCRIPTION:Fecha y hora: 16 y 17 de febrero de 2023\, de 10:00 a 12:00\nHoras: 4 horas\nCurso: Curso práctico de Microsoft Excel 365 (2º parte)\nPonente: Martín García Vega\nHoras de formación homologadas ICAC: 4h de Otras Materias\nOrganizado por la Plataforma de Formación Online de ADN&GRM Audit
URL:https://adngrm.com/evento/curso-de-formacion-curso-practico-de-microsoft-excel-365-2o-parte/
LOCATION:A través de la plataforma de formación de ADN&GRM
CATEGORIES:curso,formación
ATTACH;FMTTYPE=image/png:https://adngrm.com/wp-content/uploads/2021/12/Logo-Formacion-adngrm-e1676997711256.png
ORGANIZER;CN="ADN & GRM Audit":MAILTO:red@adngrm.com
END:VEVENT
BEGIN:VEVENT
DTSTART;TZID=Europe/Madrid:20230217T100000
DTEND;TZID=Europe/Madrid:20230217T120000
DTSTAMP:20260423T001058
CREATED:20230221T170505Z
LAST-MODIFIED:20230221T170505Z
UID:74736-1676628000-1676635200@adngrm.com
SUMMARY:Curso práctico de Excel. Parte II
DESCRIPTION:Fecha y hora: 17 de febrero de 2023\, de 10:00 a 12:00\nHoras: 2 horas\nCurso: Curso práctico de Excel. Parte II\nPonente: Martín García Vega\nHoras de formación homologadas ICAC: 2h de Otras Materias\nOrganizado por la Plataforma de Formación Online de ADN&GRM Audit
URL:https://adngrm.com/evento/curso-practico-de-excel-parte-ii/
LOCATION:A través de la plataforma de formación de ADN&GRM
CATEGORIES:curso,formación
ATTACH;FMTTYPE=image/png:https://adngrm.com/wp-content/uploads/2021/12/Logo-Formacion-adngrm-e1676997711256.png
ORGANIZER;CN="ADN & GRM Audit":MAILTO:red@adngrm.com
END:VEVENT
BEGIN:VEVENT
DTSTART;TZID=Europe/Madrid:20230223T100000
DTEND;TZID=Europe/Madrid:20230223T130000
DTSTAMP:20260423T001058
CREATED:20230221T165915Z
LAST-MODIFIED:20230221T165915Z
UID:74732-1677146400-1677157200@adngrm.com
SUMMARY:Curso básico aplicaciones incluidas en la suscripción Office 365
DESCRIPTION:Fecha y hora: 23 de febrero de 2023\, de 10:00 a 13:00\nHoras: 3 horas\nCurso: Curso básico aplicaciones incluidas en la suscripción Office 365\nPonente: Santiago Muñoz Gordaliza\nHoras de formación homologadas ICAC: 3h de Otras Materias\nOrganizado por la Plataforma de Formación Online de ADN&GRM Audit
URL:https://adngrm.com/evento/curso-basico-aplicaciones-incluidas-en-la-suscripcion-office-365/
LOCATION:A través de la plataforma de formación de ADN&GRM
CATEGORIES:curso,formación
ATTACH;FMTTYPE=image/png:https://adngrm.com/wp-content/uploads/2021/12/Logo-Formacion-adngrm-e1676997711256.png
ORGANIZER;CN="ADN & GRM Audit":MAILTO:red@adngrm.com
END:VEVENT
BEGIN:VEVENT
DTSTART;TZID=Europe/Madrid:20230224T100000
DTEND;TZID=Europe/Madrid:20230224T110000
DTSTAMP:20260423T001058
CREATED:20230221T125519Z
LAST-MODIFIED:20230221T125519Z
UID:74719-1677232800-1677236400@adngrm.com
SUMMARY:Curso de formación: Conceptos básicos de redes sociales en los despachos y actividad de auditoría
DESCRIPTION:Fecha y hora: 24 de febrero de 2023\, de 10:00 a 11:00\nHoras: 1 hora\nCurso: Conceptos básicos de redes sociales en los despachos y actividad de auditoría\nPonente: Alfonso Linares Gutiérrez\nHoras de formación homologadas ICAC: 1h de Otras Materias\nOrganizado por la Plataforma de Formación Online de ADN&GRM Audit
URL:https://adngrm.com/evento/curso-de-formacion-conceptos-basicos-de-redes-sociales-en-los-despachos-y-actividad-de-auditoria/
LOCATION:A través de la plataforma de formación de ADN&GRM
CATEGORIES:curso,formación
ATTACH;FMTTYPE=image/png:https://adngrm.com/wp-content/uploads/2021/12/Logo-Formacion-adngrm-e1676997711256.png
ORGANIZER;CN="ADN & GRM Audit":MAILTO:red@adngrm.com
END:VEVENT
BEGIN:VEVENT
DTSTART;TZID=Europe/Madrid:20230302T100000
DTEND;TZID=Europe/Madrid:20230302T130000
DTSTAMP:20260423T001058
CREATED:20230221T164227Z
LAST-MODIFIED:20230227T153530Z
UID:74722-1677751200-1677762000@adngrm.com
SUMMARY:Curso de formación: Aspectos básicos de Power Query\, Power Pivot y Power BI. Parte I
DESCRIPTION:Fecha y hora: 02 de marzo de 2023\, de 10:00 a 13:00\nHoras: 3 horas\nCurso: Aspectos básicos de Power Query\, Power Pivot y Power BI. Parte I\nPonente: Santiago Muñoz Gordaliza\nHoras de formación homologadas ICAC: 3h de Otras Materias\nOrganizado por la Plataforma de Formación Online de ADN&GRM Audit
URL:https://adngrm.com/evento/curso-de-formacion-aspectos-basicos-de-power-query-power-pivot-y-power-bi-parte-i/
LOCATION:A través de la plataforma de formación de ADN&GRM
CATEGORIES:curso,formación
ATTACH;FMTTYPE=image/png:https://adngrm.com/wp-content/uploads/2021/12/Logo-Formacion-adngrm-e1676997711256.png
ORGANIZER;CN="ADN & GRM Audit":MAILTO:red@adngrm.com
END:VEVENT
BEGIN:VEVENT
DTSTART;TZID=Europe/Madrid:20230303T110000
DTEND;TZID=Europe/Madrid:20230303T110000
DTSTAMP:20260423T001058
CREATED:20230221T164718Z
LAST-MODIFIED:20231013T111937Z
UID:74726-1677841200-1677841200@adngrm.com
SUMMARY:Curso formación: Aspectos básicos de Power Query\, Power Pivot y Power BI. Parte II
DESCRIPTION:Fecha y hora: 03 de marzo de 2023\, de 10:00 a 13:00\nHoras: 3 horas\nCurso: Aspectos básicos de Power Query\, Power Pivot y Power BI. Parte II\nPonente: Santiago Muñoz Gordaliza\nHoras de formación homologadas ICAC: 3h de Otras Materias\nOrganizado por la Plataforma de Formación Online de ADN&GRM Audit
URL:https://adngrm.com/evento/curso-formacion-aspectos-basicos-de-power-query-power-pivot-y-power-bi-parte-ii/
LOCATION:A través de la plataforma de formación de ADN&GRM
CATEGORIES:curso,formación
ATTACH;FMTTYPE=image/png:https://adngrm.com/wp-content/uploads/2021/12/Logo-Formacion-adngrm-e1676997711256.png
ORGANIZER;CN="ADN & GRM Audit":MAILTO:red@adngrm.com
END:VEVENT
BEGIN:VEVENT
DTSTART;TZID=Europe/Madrid:20230309T100000
DTEND;TZID=Europe/Madrid:20230309T130000
DTSTAMP:20260423T001058
CREATED:20230221T165113Z
LAST-MODIFIED:20230221T175551Z
UID:74728-1678356000-1678366800@adngrm.com
SUMMARY:Análisis de las consultas publicadas por el ICAC durante el año 2022
DESCRIPTION:Fecha y hora: 09 de marzo de 2023\, de 10:00 a 13:00\nHoras: 3 horas\nEvento: Análisis de las consultas publicadas por el ICAC durante el año 2022. Parte I\nPonente: Valentín Gallego Castañera\nHoras de formación homologadas ICAC: 3h de contabilidad y auditoría\nOrganizado por la Plataforma de Formación Online de ADN&GRM Audit
URL:https://adngrm.com/evento/analisis-de-las-consultas-publicadas-por-el-icac-durante-el-ano-2022/
LOCATION:A través de la plataforma de formación de ADN&GRM
CATEGORIES:evento
ATTACH;FMTTYPE=image/png:https://adngrm.com/wp-content/uploads/2021/12/Logo-Formacion-adngrm-e1676997711256.png
ORGANIZER;CN="ADN & GRM Audit":MAILTO:red@adngrm.com
END:VEVENT
BEGIN:VEVENT
DTSTART;TZID=Europe/Madrid:20230310T100000
DTEND;TZID=Europe/Madrid:20230310T130000
DTSTAMP:20260423T001058
CREATED:20230221T165354Z
LAST-MODIFIED:20230221T175611Z
UID:74730-1678442400-1678453200@adngrm.com
SUMMARY:Análisis de las consultas publicadas por el ICAC durante el año 2022
DESCRIPTION:Fecha y hora: 10 de marzo de 2023\, de 10:00 a 13:00\nHoras: 3 horas\nCurso: Análisis de las consultas publicadas por el ICAC durante el año 2022\nPonente: Valentín Gallego Castañera\nHoras de formación homologadas ICAC: 3h de contabilidad y auditoría\nOrganizado por la Plataforma de Formación Online de ADN&GRM Audit
URL:https://adngrm.com/evento/analisis-de-las-consultas-publicadas-por-el-icac-durante-el-ano-2022-2/
LOCATION:A través de la plataforma de formación de ADN&GRM
CATEGORIES:evento
ATTACH;FMTTYPE=image/png:https://adngrm.com/wp-content/uploads/2021/12/Logo-Formacion-adngrm-e1676997711256.png
ORGANIZER;CN="ADN & GRM Audit":MAILTO:red@adngrm.com
END:VEVENT
BEGIN:VEVENT
DTSTART;VALUE=DATE:20230601
DTEND;VALUE=DATE:20230603
DTSTAMP:20260423T001058
CREATED:20230531T083651Z
LAST-MODIFIED:20230531T103507Z
UID:74785-1685577600-1685750399@adngrm.com
SUMMARY:X Congreso ACCID y APC
DESCRIPTION:Fecha: 1 y 2 de Junio de 2023 \nPonentes: Varios \nFormato: Presencial \nLugar:  ESADE – Ramón Llull University \nWeb: https://accid.org/x-congres-programa/ \n 
URL:https://adngrm.com/evento/x-congreso-accid-y-apc/
LOCATION:https://accid.org/x-congres-programa/
CATEGORIES:evento
ATTACH;FMTTYPE=image/png:https://adngrm.com/wp-content/uploads/2021/12/Logo-Formacion-adngrm-e1676997711256.png
ORGANIZER;CN="ADN & GRM Audit":MAILTO:red@adngrm.com
END:VEVENT
BEGIN:VEVENT
DTSTART;VALUE=DATE:20230921
DTEND;VALUE=DATE:20230923
DTSTAMP:20260423T001058
CREATED:20230531T082931Z
LAST-MODIFIED:20230531T103504Z
UID:74782-1695254400-1695427199@adngrm.com
SUMMARY:XI Foro Pequeños despachos de auditores
DESCRIPTION:Fecha: 21 y 22 de Septiembre de 2023 \nPonentes: Varios \nFormato: Presencial y on.line \nLugar: Córdoba (Hotel Córdoba Center) \nWeb: XI Foro Pequeños Despachos de Auditores. 21 y 22 septiembre 2023. Córdoba – REA (economistas.es)
URL:https://adngrm.com/evento/xi-foro-pequenos-despachos-de-auditores/
LOCATION:rea.economistas.es\, Hotel Cordoba Central\, Cordoba\, Cordoba\, España
CATEGORIES:evento
ATTACH;FMTTYPE=image/png:https://adngrm.com/wp-content/uploads/2021/12/Logo-Formacion-adngrm-e1676997711256.png
ORGANIZER;CN="ADN & GRM Audit":MAILTO:red@adngrm.com
END:VEVENT
BEGIN:VEVENT
DTSTART;TZID=Europe/Madrid:20230928T100000
DTEND;TZID=Europe/Madrid:20230928T120000
DTSTAMP:20260423T001058
CREATED:20230926T101855Z
LAST-MODIFIED:20230926T103637Z
UID:74807-1695895200-1695902400@adngrm.com
SUMMARY:CRM Gestión y Calidad en Firmas de Auditoría - Independencias
DESCRIPTION:CRM Gestión y Calidad en Firmas de Auditoría – Independencias\n \nHorario: 10:00 – 12:00\nHoras lectivas: 2 en “Auditoria”.\nFecha: 28-Septiembre\nPonente: \n\nGerardo Narbona Niza\nSocio y responsable de tecnología en GAP Auditores\n\n 
URL:https://adngrm.com/evento/crm-gestion-y-calidad-en-firmas-de-auditoria-independencias/
LOCATION:A través de la plataforma de formación de ADN&GRM
CATEGORIES:curso
ATTACH;FMTTYPE=image/png:https://adngrm.com/wp-content/uploads/2021/12/Logo-Formacion-adngrm-e1676997711256.png
ORGANIZER;CN="ADN & GRM Audit":MAILTO:red@adngrm.com
END:VEVENT
BEGIN:VEVENT
DTSTART;TZID=Europe/Madrid:20231019T100000
DTEND;TZID=Europe/Madrid:20231019T130000
DTSTAMP:20260423T001058
CREATED:20231013T112353Z
LAST-MODIFIED:20231013T112938Z
UID:74823-1697709600-1697720400@adngrm.com
SUMMARY:Novedades en la herramienta Auditsoft 2023-2024
DESCRIPTION:Fecha y hora: 19 de octubre de 2023\, de 10:00 a 13:00\nHoras lectivas: 3 en Auditoria\nCurso: Novedades en la herramienta Auditsoft 2023-2024\nPonente: Jose Julio Sainz Gascón\nOrganizado por la Plataforma de Formación Online de ADN&GRM Audit
URL:https://adngrm.com/evento/novedades-en-la-herramienta-auditsoft-2023-2024/
LOCATION:A través de la plataforma de formación de ADN&GRM
CATEGORIES:curso
ATTACH;FMTTYPE=image/png:https://adngrm.com/wp-content/uploads/2021/12/Logo-Formacion-adngrm-e1676997711256.png
ORGANIZER;CN="ADN & GRM Audit":MAILTO:red@adngrm.com
END:VEVENT
BEGIN:VEVENT
DTSTART;TZID=Europe/Madrid:20231020T100000
DTEND;TZID=Europe/Madrid:20231020T120000
DTSTAMP:20260423T001058
CREATED:20231013T113209Z
LAST-MODIFIED:20231013T113209Z
UID:74831-1697796000-1697803200@adngrm.com
SUMMARY:Las operaciones de M&A. Aspectos relevantes.
DESCRIPTION:Fecha y hora: 20 de octubre de 2023\, de 10:00 a 12:00\nHoras lectivas: 2 en Otras materias\nCurso: Las operaciones de M&A. Aspectos relevantes.\nPonente: Javier Gómez Domínguez\nOrganizado por la Plataforma de Formación Online de ADN&GRM Audit
URL:https://adngrm.com/evento/las-operaciones-de-ma-aspectos-relevantes/
LOCATION:A través de la plataforma de formación de ADN&GRM
CATEGORIES:curso
ATTACH;FMTTYPE=image/png:https://adngrm.com/wp-content/uploads/2021/12/Logo-Formacion-adngrm-e1676997711256.png
ORGANIZER;CN="ADN & GRM Audit":MAILTO:red@adngrm.com
END:VEVENT
BEGIN:VEVENT
DTSTART;VALUE=DATE:20231123
DTEND;VALUE=DATE:20231125
DTSTAMP:20260423T001058
CREATED:20230629T101002Z
LAST-MODIFIED:20230630T130131Z
UID:74801-1700697600-1700870399@adngrm.com
SUMMARY:Congreso Nacional 2023 ADN&GRMA Audit
DESCRIPTION:Fechas: 23 y 24 de Noviembre\nCiudad: Barcelona\nLugar: Hotel H10 Barcelona (https://www.h10hotels.com/es)
URL:https://adngrm.com/evento/congreso-nacional-2023-adngrma-audit/
LOCATION:https://www.h10hotels.com/es\, Hotel H10\, Barcelona\, Cataluña\, España
CATEGORIES:evento
ATTACH;FMTTYPE=image/png:https://adngrm.com/wp-content/uploads/2023/06/Congreso-2023.png
ORGANIZER;CN="ADN & GRM Audit":MAILTO:red@adngrm.com
END:VEVENT
BEGIN:VEVENT
DTSTART;TZID=Europe/Madrid:20231201T100000
DTEND;TZID=Europe/Madrid:20231201T230000
DTSTAMP:20260423T001058
CREATED:20231130T105537Z
LAST-MODIFIED:20231130T105537Z
UID:74860-1701424800-1701471600@adngrm.com
SUMMARY:CANAL DE DENUNCIAS. Implantación y gestión
DESCRIPTION:Fecha y hora: 1 de diciembre de 2023\, de 10:00 a 11:00\nHoras lectivas: 1 en Otras materias\nCurso: CANAL DE DENUNCIAS. Implantación y gestión\nPonentes: \n\nJorge Álvarez Viñuela | Auditor de Cuentas\n\n\nDavid Prieto López | Abogado.\n\nOrganizado por la Plataforma de Formación Online de ADN&GRM Audit
URL:https://adngrm.com/evento/canal-de-denuncias-implantacion-y-gestion/
LOCATION:A través de la plataforma de formación de ADN&GRM
CATEGORIES:curso
ATTACH;FMTTYPE=image/png:https://adngrm.com/wp-content/uploads/2021/12/Logo-Formacion-adngrm-e1676997711256.png
ORGANIZER;CN="ADN & GRM Audit":MAILTO:red@adngrm.com
END:VEVENT
BEGIN:VEVENT
DTSTART;TZID=Europe/Madrid:20231212T100000
DTEND;TZID=Europe/Madrid:20231212T140000
DTSTAMP:20260423T001058
CREATED:20231204T173310Z
LAST-MODIFIED:20231204T173431Z
UID:74863-1702375200-1702389600@adngrm.com
SUMMARY:EQCR e Inspección de seguimiento 2022:   resultados de los trabajos realizados\,   debilidades detectadas y sugerencias    de mejora.
DESCRIPTION:Fecha y hora: 12 de Diciembre de 2023\, de 10:00 a 14:00\nHoras lectivas: 4 en Auditoría\nCurso: EQCR e Inspección de seguimiento 2022: resultados de los trabajos realizados\, debilidades detectadas y sugerencias de mejora.\nPonente: Judit Fernández Margolles | ROAC 22292\nOrganizado por la Plataforma de Formación Online de ADN&GRM Audit
URL:https://adngrm.com/evento/eqcr-e-inspeccion-de-seguimiento-2022-resultados-de-los-trabajos-realizados-debilidades-detectadas-y-sugerencias-de-mejora/
LOCATION:A través de la plataforma de formación de ADN&GRM
CATEGORIES:curso
ATTACH;FMTTYPE=image/png:https://adngrm.com/wp-content/uploads/2021/12/Logo-Formacion-adngrm-e1676997711256.png
ORGANIZER;CN="ADN & GRM Audit":MAILTO:red@adngrm.com
END:VEVENT
BEGIN:VEVENT
DTSTART;TZID=Europe/Madrid:20240221T100000
DTEND;TZID=Europe/Madrid:20240223T130000
DTSTAMP:20260423T001058
CREATED:20240219T124928Z
LAST-MODIFIED:20240219T143649Z
UID:74911-1708509600-1708693200@adngrm.com
SUMMARY:Auditoría en el pack ADN de Auditsoft 2023.  Enfoque práctico avanzado y resolución de dudas  de aplicación.
DESCRIPTION:Fecha y hora: se celebrará los días 21\, 22 y 23 de febrero de 2024\, de 10:00 a 13:00 h\nHoras lectivas: 9 horas lectivas en Auditoría\nCurso: Auditoría en el pack ADN de Auditsoft 2023. Enfoque práctico avanzado y resolución de dudas de aplicación.\nPonente: Xávier Sánchez Ibáñez | ROAC 22.451\nOrganizado por la Plataforma de Formación Online de ADN&GRM Audit
URL:https://adngrm.com/evento/auditoria-en-el-pack-adn-de-auditsoft-2023-enfoque-practico-avanzado-y-resolucion-de-dudas-de-aplicacion/
LOCATION:A través de la plataforma de formación de ADN&GRM
CATEGORIES:curso
ATTACH;FMTTYPE=image/png:https://adngrm.com/wp-content/uploads/2021/12/Logo-Formacion-adngrm-e1676997711256.png
ORGANIZER;CN="ADN & GRM Audit":MAILTO:red@adngrm.com
END:VEVENT
BEGIN:VEVENT
DTSTART;TZID=Europe/Madrid:20240924T100000
DTEND;TZID=Europe/Madrid:20240924T120000
DTSTAMP:20260423T001058
CREATED:20240920T122356Z
LAST-MODIFIED:20240923T103706Z
UID:74981-1727172000-1727179200@adngrm.com
SUMMARY:CRM Herramienta de Gestión Práctica para Socios
DESCRIPTION:Fecha y hora: 24 de Septiembre de 2024\, de 10:00 a 12:00\nHoras lectivas: 2 en otras materias\nCurso: CRM Herramienta de Gestión Práctica para Socios\nPonente: PEDRO NÚÑEZ-BARRANCO MOYA | Auditor de Cuentas\nOrganizado por la Plataforma de Formación Online de ADN&GRM Audit
URL:https://adngrm.com/evento/crm-herramienta-de-gestion-practica-para-socios/
LOCATION:A través de la plataforma de formación de ADN&GRM
CATEGORIES:curso
ATTACH;FMTTYPE=image/png:https://adngrm.com/wp-content/uploads/2021/12/Logo-Formacion-adngrm-e1676997711256.png
ORGANIZER;CN="ADN & GRM Audit":MAILTO:red@adngrm.com
END:VEVENT
BEGIN:VEVENT
DTSTART;TZID=Europe/Madrid:20241024T093000
DTEND;TZID=Europe/Madrid:20241024T193000
DTSTAMP:20260423T001058
CREATED:20241022T163105Z
LAST-MODIFIED:20241023T110308Z
UID:74994-1729762200-1729798200@adngrm.com
SUMMARY:CONGRESO RED: AuditorÍA\, innovación con integridad
DESCRIPTION:Fecha y hora: 24 DE Octubre de 9:30 a 19:30 hora\nCurso: Congreso RED\nPresencial en el Hotel Chamartin TheOne \nConsulta la agenda en este link: \n2024-10-24 Congreso RED
URL:https://adngrm.com/evento/congreso-red-auditoria-innovacion-con-integridad/
LOCATION:Presencial en el Hotel Chamartin TheOne\, Hotel Chamartín The One\, C. de Agustín de Foxá\, s/n\, Chamartín\, 28036 Madrid\, Madrid\, Madrid\, 28036\, Spain
CATEGORIES:curso
ATTACH;FMTTYPE=image/png:https://adngrm.com/wp-content/uploads/2024/10/Captura-de-pantalla-2024-10-23-130134.png
ORGANIZER;CN="ADN & GRM Audit":MAILTO:red@adngrm.com
END:VEVENT
BEGIN:VEVENT
DTSTART;TZID=Europe/Madrid:20241030T100000
DTEND;TZID=Europe/Madrid:20241030T130000
DTSTAMP:20260423T001058
CREATED:20241022T161155Z
LAST-MODIFIED:20241022T161155Z
UID:74992-1730282400-1730293200@adngrm.com
SUMMARY:Uso de CIRCIT en relación con las NIAS
DESCRIPTION:Fecha y hora: 30 de Octubre de 2024\, de 10:00 a 13:00\nHoras lectivas: 3 en auditoría\nCurso: Uso de CIRCIT en relación con las NIAS\nPonente: José Ramos Porto | CIRCIT Commercial manager\nOrganizado por la Plataforma de Formación Online de ADN&GRM Audit
URL:https://adngrm.com/evento/uso-de-circit-en-relacion-con-las-nias/
LOCATION:A través de la plataforma de formación de ADN&GRM
CATEGORIES:curso
ATTACH;FMTTYPE=image/png:https://adngrm.com/wp-content/uploads/2021/12/Logo-Formacion-adngrm-e1676997711256.png
ORGANIZER;CN="ADN & GRM Audit":MAILTO:red@adngrm.com
END:VEVENT
BEGIN:VEVENT
DTSTART;TZID=Europe/Madrid:20241127T100000
DTEND;TZID=Europe/Madrid:20241127T120000
DTSTAMP:20260423T001058
CREATED:20241122T085403Z
LAST-MODIFIED:20241122T085403Z
UID:75040-1732701600-1732708800@adngrm.com
SUMMARY:Curso básico de Teams\, OneDrive y SharePoint - Jornada 1
DESCRIPTION:Fecha y hora: 27 y 28 de noviembre\, de 10h a 12h\nCurso: Curso básico de Teams\, OneDrive y SharePoint\nPonente: Impartido por Martin Garcia Vega\n– Ingeniero Técnico en Informática de Sistemas.
URL:https://adngrm.com/evento/curso-basico-de-teams-onedrive-y-sharepoint-jornada-1/
LOCATION:A través de la plataforma de formación de ADN&GRM
CATEGORIES:curso
ATTACH;FMTTYPE=image/png:https://adngrm.com/wp-content/uploads/2021/12/Logo-Formacion-adngrm-e1676997711256.png
ORGANIZER;CN="ADN & GRM Audit":MAILTO:red@adngrm.com
END:VEVENT
BEGIN:VEVENT
DTSTART;TZID=Europe/Madrid:20241128T100000
DTEND;TZID=Europe/Madrid:20241128T120000
DTSTAMP:20260423T001058
CREATED:20241121T174203Z
LAST-MODIFIED:20241122T085409Z
UID:75032-1732788000-1732795200@adngrm.com
SUMMARY:Curso básico de Teams\, OneDrive y SharePoint - Jornada 2
DESCRIPTION:Fecha y hora: 27 y 28 de noviembre\, de 10h a 12h\nCurso: Curso básico de Teams\, OneDrive y SharePoint\nPonente: Impartido por Martin Garcia Vega\n– Ingeniero Técnico en Informática de Sistemas.
URL:https://adngrm.com/evento/curso-basico-de-teams-onedrive-y-sharepoint/
LOCATION:A través de la plataforma de formación de ADN&GRM
CATEGORIES:curso
ATTACH;FMTTYPE=image/png:https://adngrm.com/wp-content/uploads/2021/12/Logo-Formacion-adngrm-e1676997711256.png
ORGANIZER;CN="ADN & GRM Audit":MAILTO:red@adngrm.com
END:VEVENT
BEGIN:VEVENT
DTSTART;TZID=Europe/Madrid:20241203T100000
DTEND;TZID=Europe/Madrid:20241203T140000
DTSTAMP:20260423T001058
CREATED:20241111T110700Z
LAST-MODIFIED:20241111T111003Z
UID:75019-1733220000-1733234400@adngrm.com
SUMMARY:EQCR e Inspección de seguimiento: resultados de los trabajos realizados\, debilidades detectadas y sugerencias de mejora
DESCRIPTION:Fecha y hora: 3 de diciembre; de 10h a 14\nHoras lectivas: 4 horas en auditoría\nCurso: EQCR e Inspección de seguimiento: resultados de los trabajos realizados\, debilidades detectadas y sugerencias de mejora\nPonente: JUDIT FERNÁNDEZ MARGOLLES\nOrganizado por la Plataforma de Formación Online de ADN&GRM Audit
URL:https://adngrm.com/evento/eqcr-e-inspeccion-de-seguimiento-resultados-de-los-trabajos-realizados-debilidades-detectadas-y-sugerencias-de-mejora-2/
LOCATION:A través de la plataforma de formación de ADN&GRM
CATEGORIES:curso
ATTACH;FMTTYPE=image/png:https://adngrm.com/wp-content/uploads/2021/12/Logo-Formacion-adngrm-e1676997711256.png
ORGANIZER;CN="ADN & GRM Audit":MAILTO:red@adngrm.com
END:VEVENT
END:VCALENDAR